BEGIN:VCALENDAR
VERSION:2.0
PRODID:-//Teaching for the Culture® - ECPv6.15.20//NONSGML v1.0//EN
CALSCALE:GREGORIAN
METHOD:PUBLISH
X-WR-CALNAME:Teaching for the Culture®
X-ORIGINAL-URL:https://teachingfortheculture.com
X-WR-CALDESC:Events for Teaching for the Culture®
REFRESH-INTERVAL;VALUE=DURATION:PT1H
X-Robots-Tag:noindex
X-PUBLISHED-TTL:PT1H
BEGIN:VTIMEZONE
TZID:America/New_York
BEGIN:DAYLIGHT
TZOFFSETFROM:-0500
TZOFFSETTO:-0400
TZNAME:EDT
DTSTART:20200308T070000
END:DAYLIGHT
BEGIN:STANDARD
TZOFFSETFROM:-0400
TZOFFSETTO:-0500
TZNAME:EST
DTSTART:20201101T060000
END:STANDARD
BEGIN:DAYLIGHT
TZOFFSETFROM:-0500
TZOFFSETTO:-0400
TZNAME:EDT
DTSTART:20210314T070000
END:DAYLIGHT
BEGIN:STANDARD
TZOFFSETFROM:-0400
TZOFFSETTO:-0500
TZNAME:EST
DTSTART:20211107T060000
END:STANDARD
BEGIN:DAYLIGHT
TZOFFSETFROM:-0500
TZOFFSETTO:-0400
TZNAME:EDT
DTSTART:20220313T070000
END:DAYLIGHT
BEGIN:STANDARD
TZOFFSETFROM:-0400
TZOFFSETTO:-0500
TZNAME:EST
DTSTART:20221106T060000
END:STANDARD
END:VTIMEZONE
BEGIN:VEVENT
DTSTART;TZID=America/New_York:20210320T160000
DTEND;TZID=America/New_York:20210320T180000
DTSTAMP:20260421T180843
CREATED:20210311T030636Z
LAST-MODIFIED:20230803T101622Z
UID:5537-1616256000-1616263200@teachingfortheculture.com
SUMMARY:Policing in Pinellas Schools Town Hall
DESCRIPTION:Teaching for the Culture joined forces with the NAACP Legal Defense and Educational Fund\, Inc. (LDF) in a letter to the Pinellas County School Board\, requesting revisions to a proposed agreement between the school district and 13 local law enforcement agencies. LDF previously requested the school board to adopt these revisions on behalf of Black students attending Pinellas County schools to preserve students’ privacy and due process rights and to ensure that law enforcement officers do not replace educators in addressing childhood misbehavior. \n  \n“Turning police into school disciplinarians increases student anxiety\, creates alienation and distrust\, diminishes students’ faith in the legitimacy of the authority of school staff\, and can trigger\, rather than prevent\, misbehavior\,” stated the organizations in their letter to the school board. “Furthermore\, harsh disciplinary practices\, such as school-based arrests\, increase the risk that students will fail a grade\, drop out of school\, and become entangled in the criminal justice system.” \n  \nResearch shows that Black students do not misbehave more than white students. Yet\, there were more than twice as many arrests of Black students than white students during the 2019-20 school year even though there are nearly three times as many white students in the Pinellas County School District. As of 2019\, the district was the eighth-largest school district in Florida and the 27th-largest school district in the country. \n  \nTeaching for the Culture is hosting a virtual town hall with the NAACP Legal Defense and Education Fund\, Sunshine Education Coalition\, NAACP St. Petersburg Branch #5130\, and Allendale United Methodist Church to enable community members to ask questions and discuss the issue on Saturday\, March 20\, at 4 p.m. \n  \nThis event will be streamed live on Teaching for the Culture’s Facebook & YouTube platforms. \n  \nView the requested revision documents\n\n\n\n\nREDLINE\n\n\nCLEAN\n\n\n\n\n### \n  \nTeaching for the Culture is a movement to spark positive change within our education system. We amplify the voices of our students\, parents\, educators\, and support staff. With an intentional focus in the Tampa Bay area\, we provide a wide range of education advocacy and educational content. We are fighting for equity in education and justice for all students! \nBianca Goolsby\, MBABianca Goolsby\, MBA is a digital strategist and activist who partners with mission-driven organizations to increase their impact through innovative and effective online communications. She also empowers and equips families to curate safe social spaces for themselves and their children.
URL:https://teachingfortheculture.com/event/policing-in-pinellas-schools-town-hall/
ATTACH;FMTTYPE=image/png:https://teachingfortheculture.com/wp-content/uploads/2021/03/Policing-in-Pinellas-Schools-Town-Hall-Blog-Image.png
END:VEVENT
END:VCALENDAR